BEGIN:VCALENDAR
VERSION:2.0
PRODID:-//MCSA - ECPv6.15.3//NONSGML v1.0//EN
CALSCALE:GREGORIAN
METHOD:PUBLISH
X-WR-CALNAME:MCSA
X-ORIGINAL-URL:https://manitowoctrails.com
X-WR-CALDESC:Events for MCSA
REFRESH-INTERVAL;VALUE=DURATION:PT1H
X-Robots-Tag:noindex
X-PUBLISHED-TTL:PT1H
BEGIN:VTIMEZONE
TZID:America/Chicago
BEGIN:DAYLIGHT
TZOFFSETFROM:-0600
TZOFFSETTO:-0500
TZNAME:CDT
DTSTART:20250309T080000
END:DAYLIGHT
BEGIN:STANDARD
TZOFFSETFROM:-0500
TZOFFSETTO:-0600
TZNAME:CST
DTSTART:20251102T070000
END:STANDARD
END:VTIMEZONE
BEGIN:VEVENT
DTSTART;TZID=America/Chicago:20251028T180000
DTEND;TZID=America/Chicago:20251028T204500
DTSTAMP:20260423T170130
CREATED:20160910T224509Z
LAST-MODIFIED:20251006T051420Z
UID:1257-1761674400-1761684300@manitowoctrails.com
SUMMARY:Kettle Range Snowmobile Safety Class - Day 1
DESCRIPTION:Held at the Mishicot Sportsman Club.  Enroll online https://gowild.wi.gov/customers/safetyedclass to register. \nSponsored by Kettle Range Snow Riders. \nDay 1;  Continued on October 30th & November 1st. \n 
URL:https://manitowoctrails.com/calendar/snowmobile-safety-class/
LOCATION:Mishicot Sportsman Club\, Mishicot\, WI\, 54228\, United States
CATEGORIES:Classes
END:VEVENT
END:VCALENDAR