BEGIN:VCALENDAR
VERSION:2.0
PRODID:-//MCSA - ECPv6.15.3//NONSGML v1.0//EN
CALSCALE:GREGORIAN
METHOD:PUBLISH
X-WR-CALNAME:MCSA
X-ORIGINAL-URL:https://manitowoctrails.com
X-WR-CALDESC:Events for MCSA
REFRESH-INTERVAL;VALUE=DURATION:PT1H
X-Robots-Tag:noindex
X-PUBLISHED-TTL:PT1H
BEGIN:VTIMEZONE
TZID:America/Chicago
BEGIN:DAYLIGHT
TZOFFSETFROM:-0600
TZOFFSETTO:-0500
TZNAME:CDT
DTSTART:20250309T080000
END:DAYLIGHT
BEGIN:STANDARD
TZOFFSETFROM:-0500
TZOFFSETTO:-0600
TZNAME:CST
DTSTART:20251102T070000
END:STANDARD
END:VTIMEZONE
BEGIN:VEVENT
DTSTART;TZID=America/Chicago:20251030T180000
DTEND;TZID=America/Chicago:20251030T204500
DTSTAMP:20260423T170134
CREATED:20160910T224730Z
LAST-MODIFIED:20251006T051539Z
UID:1258-1761847200-1761857100@manitowoctrails.com
SUMMARY:Kettle Range Snowmobile Safety Class - Day 2
DESCRIPTION:Sponsored by Kettle Range Snow Riders. \nContinued to Day 3 on November 1st. \nHeld at the Mishicot Sportsman Club.
URL:https://manitowoctrails.com/calendar/snowmobile-safety-class-day-2/
LOCATION:Mishicot Sportsman Club\, Mishicot\, WI\, 54228\, United States
CATEGORIES:Classes
END:VEVENT
END:VCALENDAR