BEGIN:VCALENDAR
VERSION:2.0
PRODID:-//MCSA - ECPv6.15.3//NONSGML v1.0//EN
CALSCALE:GREGORIAN
METHOD:PUBLISH
X-WR-CALNAME:MCSA
X-ORIGINAL-URL:https://manitowoctrails.com
X-WR-CALDESC:Events for MCSA
REFRESH-INTERVAL;VALUE=DURATION:PT1H
X-Robots-Tag:noindex
X-PUBLISHED-TTL:PT1H
BEGIN:VTIMEZONE
TZID:America/Chicago
BEGIN:DAYLIGHT
TZOFFSETFROM:-0600
TZOFFSETTO:-0500
TZNAME:CDT
DTSTART:20210314T080000
END:DAYLIGHT
BEGIN:STANDARD
TZOFFSETFROM:-0500
TZOFFSETTO:-0600
TZNAME:CST
DTSTART:20211107T070000
END:STANDARD
BEGIN:DAYLIGHT
TZOFFSETFROM:-0600
TZOFFSETTO:-0500
TZNAME:CDT
DTSTART:20220313T080000
END:DAYLIGHT
BEGIN:STANDARD
TZOFFSETFROM:-0500
TZOFFSETTO:-0600
TZNAME:CST
DTSTART:20221106T070000
END:STANDARD
BEGIN:DAYLIGHT
TZOFFSETFROM:-0600
TZOFFSETTO:-0500
TZNAME:CDT
DTSTART:20230312T080000
END:DAYLIGHT
BEGIN:STANDARD
TZOFFSETFROM:-0500
TZOFFSETTO:-0600
TZNAME:CST
DTSTART:20231105T070000
END:STANDARD
BEGIN:DAYLIGHT
TZOFFSETFROM:-0600
TZOFFSETTO:-0500
TZNAME:CDT
DTSTART:20240310T080000
END:DAYLIGHT
BEGIN:STANDARD
TZOFFSETFROM:-0500
TZOFFSETTO:-0600
TZNAME:CST
DTSTART:20241103T070000
END:STANDARD
BEGIN:DAYLIGHT
TZOFFSETFROM:-0600
TZOFFSETTO:-0500
TZNAME:CDT
DTSTART:20250309T080000
END:DAYLIGHT
BEGIN:STANDARD
TZOFFSETFROM:-0500
TZOFFSETTO:-0600
TZNAME:CST
DTSTART:20251102T070000
END:STANDARD
BEGIN:DAYLIGHT
TZOFFSETFROM:-0600
TZOFFSETTO:-0500
TZNAME:CDT
DTSTART:20260308T080000
END:DAYLIGHT
BEGIN:STANDARD
TZOFFSETFROM:-0500
TZOFFSETTO:-0600
TZNAME:CST
DTSTART:20261101T070000
END:STANDARD
END:VTIMEZONE
BEGIN:VEVENT
DTSTART;VALUE=DATE:20260327
DTEND;VALUE=DATE:20260329
DTSTAMP:20260423T160002
CREATED:20151223T135149Z
LAST-MODIFIED:20260209T060101Z
UID:1028-1774569600-1774742399@manitowoctrails.com
SUMMARY:AWSC Annual Convention
DESCRIPTION:AWSC Annual Convention at the Oneida Hotel & Convention Center in Green Bay.\nSee www.awsc.org for more details.
URL:https://manitowoctrails.com/calendar/awsc-annual-convention/
LOCATION:Oneida Hotel & Conference Center\, 2040 Airport Drive\, Green Bay\, WI\, 54313\, United States
CATEGORIES:Banquet,Convention,Meeting
END:VEVENT
BEGIN:VEVENT
DTSTART;TZID=America/Chicago:20250330T130000
DTEND;TZID=America/Chicago:20250330T170000
DTSTAMP:20260423T160002
CREATED:20180326T195025Z
LAST-MODIFIED:20250309T230848Z
UID:1401-1743339600-1743354000@manitowoctrails.com
SUMMARY:Inland Annual Raffle & Banquet
DESCRIPTION:Sponsored by Inland Snowblazers. \nSee a member for a raffle ticket.
URL:https://manitowoctrails.com/calendar/inland-annual-raffle-banquet/
LOCATION:K-City Pub & Grill\, 1233 Main St.\, Kellnersville\, WI\, 54215\, United States
CATEGORIES:Banquet
END:VEVENT
BEGIN:VEVENT
DTSTART;TZID=America/Chicago:20241025T080000
DTEND;TZID=America/Chicago:20241027T170000
DTSTAMP:20260423T160002
CREATED:20170902T040331Z
LAST-MODIFIED:20241002T035028Z
UID:1347-1729843200-1730048400@manitowoctrails.com
SUMMARY:AWSC Fall Workshop
DESCRIPTION:See www.awsc.org for all details.\nOctober 25\, 26\, & 27\, 2024\nWilderness Resort and Waterpark in Wisconsin Dells.\nEarly-bird registration deadline is September 27th.
URL:https://manitowoctrails.com/calendar/awsc-fall-workshop/
LOCATION:Wilderness Resort and Waterpark\, 511 E. Adams St.\, Wiconsin Dells\, WI\, 53965\, United States
CATEGORIES:Banquet,Classes,Workshop
END:VEVENT
BEGIN:VEVENT
DTSTART;TZID=America/Chicago:20210417T173000
DTEND;TZID=America/Chicago:20210417T233000
DTSTAMP:20260423T160002
CREATED:20151223T145918Z
LAST-MODIFIED:20210407T035509Z
UID:1038-1618680600-1618702200@manitowoctrails.com
SUMMARY:Alliance Banquet
DESCRIPTION:A $50.00 ticket gets you an entry into the raffle\, and dinner for 2! \nDinner at City Limits;  Cash Bar 5pm\, with Buffet dinner from 6:30-7:30pm. \nFree beer & soda after dinner.  Scholarship winner will be announced. \nRaffle prizes are: 1st – $1\,500  ~   2nd – $750  ~   3rd – $250  ~   4th-8th – $100 each \nThere are additional raffles\, plus many door prizes! \nCash drawing is held at 9pm – Winners need not be present. \nProceeds go to Manitowoc County snowmobile trail systems. \nCome JOIN Us!! \n 
URL:https://manitowoctrails.com/calendar/alliance-banquet/
LOCATION:City Limits\, 3627 County Road CR\, Manitowoc\, WI\, 54220\, United States
CATEGORIES:Banquet,Raffle
END:VEVENT
END:VCALENDAR