BEGIN:VCALENDAR
VERSION:2.0
PRODID:-//MCSA - ECPv6.15.3//NONSGML v1.0//EN
CALSCALE:GREGORIAN
METHOD:PUBLISH
X-ORIGINAL-URL:https://manitowoctrails.com
X-WR-CALDESC:Events for MCSA
REFRESH-INTERVAL;VALUE=DURATION:PT1H
X-Robots-Tag:noindex
X-PUBLISHED-TTL:PT1H
BEGIN:VTIMEZONE
TZID:America/Chicago
BEGIN:DAYLIGHT
TZOFFSETFROM:-0600
TZOFFSETTO:-0500
TZNAME:CDT
DTSTART:20250309T080000
END:DAYLIGHT
BEGIN:STANDARD
TZOFFSETFROM:-0500
TZOFFSETTO:-0600
TZNAME:CST
DTSTART:20251102T070000
END:STANDARD
END:VTIMEZONE
BEGIN:VEVENT
DTSTART;TZID=America/Chicago:20251107T163000
DTEND;TZID=America/Chicago:20251107T200000
DTSTAMP:20260423T182850
CREATED:20160910T225605Z
LAST-MODIFIED:20251006T052016Z
UID:1260-1762533000-1762545600@manitowoctrails.com
SUMMARY:Fall Fish Fry
DESCRIPTION:Hosted by Kettle Range Snow Riders. \n  \nServing 4:30pm-8pm
URL:https://manitowoctrails.com/calendar/fall-fish-fry/
LOCATION:Mishicot Vets Club\, 314 W. Main St.\, Mishicot\, WI\, United States
CATEGORIES:Activities,Fish Fry
END:VEVENT
END:VCALENDAR