BEGIN:VCALENDAR
VERSION:2.0
PRODID:-//MCSA - ECPv6.15.3//NONSGML v1.0//EN
CALSCALE:GREGORIAN
METHOD:PUBLISH
X-WR-CALNAME:MCSA
X-ORIGINAL-URL:https://manitowoctrails.com
X-WR-CALDESC:Events for MCSA
REFRESH-INTERVAL;VALUE=DURATION:PT1H
X-Robots-Tag:noindex
X-PUBLISHED-TTL:PT1H
BEGIN:VTIMEZONE
TZID:America/Chicago
BEGIN:DAYLIGHT
TZOFFSETFROM:-0600
TZOFFSETTO:-0500
TZNAME:CDT
DTSTART:20170312T080000
END:DAYLIGHT
BEGIN:STANDARD
TZOFFSETFROM:-0500
TZOFFSETTO:-0600
TZNAME:CST
DTSTART:20171105T070000
END:STANDARD
END:VTIMEZONE
BEGIN:VEVENT
DTSTART;TZID=America/Chicago:20170115T080000
DTEND;TZID=America/Chicago:20170115T170000
DTSTAMP:20260425T072549
CREATED:20170108T054028Z
LAST-MODIFIED:20170108T055845Z
UID:1309-1484467200-1484499600@manitowoctrails.com
SUMMARY:Cleveland Snow Hawks Winter Outing
DESCRIPTION:Cleveland Snow Hawks Winter Outing\nWeather dependent – If all trails are closed\, the outing will be cancelled.\nPlace TBA
URL:https://manitowoctrails.com/calendar/cleveland-snow-hawks-winter-outing/
LOCATION:TBA\, United States
CATEGORIES:Activities
END:VEVENT
END:VCALENDAR