BEGIN:VCALENDAR
VERSION:2.0
PRODID:-//MCSA - ECPv6.15.3//NONSGML v1.0//EN
CALSCALE:GREGORIAN
METHOD:PUBLISH
X-WR-CALNAME:MCSA
X-ORIGINAL-URL:https://manitowoctrails.com
X-WR-CALDESC:Events for MCSA
REFRESH-INTERVAL;VALUE=DURATION:PT1H
X-Robots-Tag:noindex
X-PUBLISHED-TTL:PT1H
BEGIN:VTIMEZONE
TZID:America/Chicago
BEGIN:DAYLIGHT
TZOFFSETFROM:-0600
TZOFFSETTO:-0500
TZNAME:CDT
DTSTART:20240310T080000
END:DAYLIGHT
BEGIN:STANDARD
TZOFFSETFROM:-0500
TZOFFSETTO:-0600
TZNAME:CST
DTSTART:20241103T070000
END:STANDARD
END:VTIMEZONE
BEGIN:VEVENT
DTSTART;TZID=America/Chicago:20241213T180000
DTEND;TZID=America/Chicago:20241213T210000
DTSTAMP:20260424T103920
CREATED:20160929T034521Z
LAST-MODIFIED:20241109T061430Z
UID:1277-1734112800-1734123600@manitowoctrails.com
SUMMARY:Norsemen Snowmobile Safety Course - Day 1
DESCRIPTION:Day 1; 5-9pm\, at the American Legion (with limited class size);\nSponsored by Denmark Norsemen. \nRegister on DNR GoWild website. \nContinues to December 14th.
URL:https://manitowoctrails.com/calendar/norsemen-snowmobile-safety-course-day-1/
LOCATION:Denmark American Legion\, Denmark\, WI\, United States
CATEGORIES:Classes
END:VEVENT
BEGIN:VEVENT
DTSTART;TZID=America/Chicago:20241214T080000
DTEND;TZID=America/Chicago:20241214T120000
DTSTAMP:20260424T103920
CREATED:20160929T035241Z
LAST-MODIFIED:20241109T061522Z
UID:1280-1734163200-1734177600@manitowoctrails.com
SUMMARY:Norsemen Snowmobile Safety Course - Day 2
DESCRIPTION:Final Day;  8am-12pm. \nDenmark American Legion
URL:https://manitowoctrails.com/calendar/norsemen-snowmobile-safety-course-day-2/
LOCATION:Denmark American Legion\, Denmark\, WI\, United States
CATEGORIES:Classes
END:VEVENT
END:VCALENDAR